Workbook

Sheet 원가계산서
B1: 공 사 원 가 계 산 서
B2: 공사명 : 부산광역시의회 대회의실 기본 및 실시 리모델링 | F2: =CONCATENATE("금액 : 일금 ",NUMBERSTRING(E32,1),"원정")&" ( \ "&TEXT(E32,"#,#")&" )" -> 금액 : 일금 영원정 ( \ )
B3: 비 목 | E3: 금 액 | F3: 구 성 비 | G3: 비 고
A4: A1 | B4: 순 공 사 원 가 | C4: 재 료 비 | D4: 직 접 재 료 비 | E4: =TRUNC(공종별집계표!F5, 0) -> 0
A5: A2 | D5: 간 접 재 료 비 | E5: 0
A6: A3 | D6: 작업설, 부산물(△) | E6: 0
A7: AS | D7: [ 소 계 ] | E7: =TRUNC(E4+E5-E6, 0) -> 0
A8: B1 | C8: 노 무 비 | D8: 직 접 노 무 비 | E8: =TRUNC(공종별집계표!H5, 0) -> 0
A9: B2 | D9: 간 접 노 무 비 | E9: =TRUNC(E8*0.126, 0) -> 0 | F9: 직접노무비 * 12.6%
A10: BS | D10: [ 소 계 ] | E10: =TRUNC(E8+E9, 0) -> 0
A11: C2 | C11: 경 비 | D11: 경 비 | E11: =TRUNC(공종별집계표!J5, 0) -> 0
A12: C4 | D12: 산 재 보 험 료 | E12: =TRUNC(E10*0.0356, 0) -> 0 | F12: 노무비 * 3.56%
A13: C5 | D13: 고 용 보 험 료 | E13: =TRUNC(E10*0.0101, 0) -> 0 | F13: 노무비 * 1.01%
A14: C6 | D14: 국민 건강 보험료 | E14: =TRUNC(E8*0.03595, 0) -> 0 | F14: 직접노무비 * 3.595%
A15: C7 | D15: 국민 연금 보험료 | E15: =TRUNC(E8*0.0475, 0) -> 0 | F15: 직접노무비 * 4.75%
A16: C8 | D16: 퇴직 공제 부금비 | E16: =TRUNC(E8*0.023, 0) -> 0 | F16: 직접노무비 * 2.3%
A17: CA | D17: 산업안전보건관리비 | E17: =TRUNC((E7+E8)*0.0311, 0) -> 0 | F17: (재료비+직노) * 3.11%
A18: CB | D18: 노인장기요양보험료 | E18: =TRUNC(E14*0.1314, 0) -> 0 | F18: 건강보험료 * 13.14%
A19: CG | D19: 기 타 경 비 | E19: =TRUNC((E7+E10)*0.046, 0) -> 0 | F19: (재료비+노무비) * 4.6%
A20: CH | D20: 환 경 보 전 비 | E20: =TRUNC((E7+E8+E11)*0.003, 0) -> 0 | F20: (재료비+직노+경비) * 0.3%
A21: CM | D21: 석 면 분 담 금 | E21: =TRUNC(E10*0.00006, 0) -> 0 | F21: 노무비 * 0.006%
A22: CN | D22: 임 금 채 권 부 담 금 | E22: =TRUNC(E10*0.0009, 0) -> 0 | F22: 노무비 * 0.09%
A23: CS | D23: [ 소 계 ] | E23: =TRUNC(E11+E12+E13+E14+E15+E16+E17+E18+E19+E20+E21+E22, 0) -> 0
A24: S1 | B24: 계 | E24: =TRUNC(E7+E10+E23, 0) -> 0
A25: D1 | B25: 일 반 관 리 비 | E25: =TRUNC(E24*0.06, 0) -> 0 | F25: 계 * 6%
A26: D2 | B26: 이 윤 | F26: (노무비+경비+일반관리비) * 12%
A27: D4 | B27: 발 생 제 처 리
A28: D5 | B28: 건설폐기물처리비
A29: D9 | B29: 공 급 가 액
A30: DB | B30: 부 가 가 치 세 | F30: 공급가액 * 10%
A31: DH | B31: 도 급 액 | E31: =TRUNC(E29+E30,-3) -> 0
A32: S2 | B32: 총 공 사 비 | E32: =TRUNC(E31+0, 0) -> 0

Sheet 공종별집계표
A1: 공 종 별 집 계 표
A2: [ 부산광역시의회 대회의실 기본 및 실시 리모델링 ]
A3: 품 명 | B3: 규 격 | C3: 단위 | D3: 수량 | E3: 재 료 비 | G3: 노 무 비 | I3: 경 비 | K3: 합 계 | M3: 비 고
E4: 단 가 | F4: 금 액 | G4: 단 가 | H4: 금 액 | I4: 단 가 | J4: 금 액 | K4: 단 가 | L4: 금 액
A5: 부산광역시의회 대회의실 기본 및 실시 리모델링 | D5: 1 | E5: =F6 -> 0 | F5: =E5*D5 -> 0 | G5: =H6 -> 0 | H5: =G5*D5 -> 0 | I5: =J6 -> 0 | J5: =I5*D5 -> 0 | K5: =E5+G5+I5 -> 0 | L5: =F5+H5+J5 -> 0
A6: 건 축 공 사 | D6: 1 | E6: =F7+F8+F9+F10+F11+F12+F13+F14 -> 0 | F6: =E6*D6 -> 0 | G6: =H7+H8+H9+H10+H11+H12+H13+H14 -> 0 | H6: =G6*D6 -> 0 | I6: =J7+J8+J9+J10+J11+J12+J13+J14 -> 0 | J6: =I6*D6 -> 0 | K6: =E6+G6+I6 -> 0 | L6: =F6+H6+J6 -> 0
A7: 가 설 공 사 | D7: 1 | E7: =공종별내역서!F27 -> 0 | F7: =E7*D7 -> 0 | G7: =공종별내역서!H27 -> 0 | H7: =G7*D7 -> 0 | I7: =공종별내역서!J27 -> 0 | J7: =I7*D7 -> 0 | K7: =E7+G7+I7 -> 0 | L7: =F7+H7+J7 -> 0
A8: 조 적 공 사 | D8: 1 | E8: =공종별내역서!F51 -> 0 | F8: =E8*D8 -> 0 | G8: =공종별내역서!H51 -> 0 | H8: =G8*D8 -> 0 | I8: =공종별내역서!J51 -> 0 | J8: =I8*D8 -> 0 | K8: =E8+G8+I8 -> 0 | L8: =F8+H8+J8 -> 0
A9: 목공사및수장공사 | D9: 1 | E9: =공종별내역서!F99 -> 0 | F9: =E9*D9 -> 0 | G9: =공종별내역서!H99 -> 0 | H9: =G9*D9 -> 0 | I9: =공종별내역서!J99 -> 0 | J9: =I9*D9 -> 0 | K9: =E9+G9+I9 -> 0 | L9: =F9+H9+J9 -> 0
A10: 금 속 공 사 | D10: 1 | E10: =공종별내역서!F123 -> 0 | F10: =E10*D10 -> 0 | G10: =공종별내역서!H123 -> 0 | H10: =G10*D10 -> 0 | I10: =공종별내역서!J123 -> 0 | J10: =I10*D10 -> 0 | K10: =E10+G10+I10 -> 0 | L10: =F10+H10+J10 -> 0
A11: 미 장 공 사 | D11: 1 | E11: =공종별내역서!F147 -> 0 | F11: =E11*D11 -> 0 | G11: =공종별내역서!H147 -> 0 | H11: =G11*D11 -> 0 | I11: =공종별내역서!J147 -> 0 | J11: =I11*D11 -> 0 | K11: =E11+G11+I11 -> 0 | L11: =F11+H11+J11 -> 0
A12: 창호 및 유리공사 | D12: 1 | E12: =공종별내역서!F171 -> 0 | F12: =E12*D12 -> 0 | G12: =공종별내역서!H171 -> 0 | H12: =G12*D12 -> 0 | I12: =공종별내역서!J171 -> 0 | J12: =I12*D12 -> 0 | K12: =E12+G12+I12 -> 0 | L12: =F12+H12+J12 -> 0
A13: 칠 공 사 | D13: 1 | E13: =공종별내역서!F195 -> 0 | F13: =E13*D13 -> 0 | G13: =공종별내역서!H195 -> 0 | H13: =G13*D13 -> 0 | I13: =공종별내역서!J195 -> 0 | J13: =I13*D13 -> 0 | K13: =E13+G13+I13 -> 0 | L13: =F13+H13+J13 -> 0
A14: 철 거 공 사 | D14: 1 | E14: =공종별내역서!F219 -> 0 | F14: =E14*D14 -> 0 | G14: =공종별내역서!H219 -> 0 | H14: =G14*D14 -> 0 | I14: =공종별내역서!J219 -> 0 | J14: =I14*D14 -> 0 | K14: =E14+G14+I14 -> 0 | L14: =F14+H14+J14 -> 0
A15: 발 생 제 처 리 | D15: 1 | E15: =공종별내역서!F243 -> 0 | F15: =E15*D15 -> 0 | G15: =공종별내역서!H243 -> 0 | H15: =G15*D15 -> 0 | I15: =공종별내역서!J243 -> 0 | J15: =I15*D15 -> 0 | K15: =E15+G15+I15 -> 0 | L15: =F15+H15+J15 -> 0
A16: 건설폐기물처리비 | D16: 1 | E16: =공종별내역서!F267 -> 0 | F16: =E16*D16 -> 0 | G16: =공종별내역서!H267 -> 0 | H16: =G16*D16 -> 0 | I16: =공종별내역서!J267 -> 0 | J16: =I16*D16 -> 0 | K16: =E16+G16+I16 -> 0 | L16: =F16+H16+J16 -> 0
A27: [ 합 계 ] | F27: =F5 -> 0 | H27: =H5 -> 0 | J27: =J5 -> 0 | L27: =L5 -> 0

Sheet 공종별내역서
A1: [ 부산광역시의회 대회의실 기본 및 실시 리모델링 ]
A2: 품 명 | B2: 규 격 | C2: 단위 | D2: 수량 | E2: 재 료 비 | G2: 노 무 비 | I2: 경 비 | K2: 합 계 | M2: 비 고
E3: 단 가 | F3: 금 액 | G3: 단 가 | H3: 금 액 | I3: 단 가 | J3: 금 액 | K3: 단 가 | L3: 금 액
A4: 가 설 공 사
A5: 공사용가설칸막이 설치 | B5: 목재띠장+4.8mm합판(일면) | C5: M2 | D5: 103
A6: 시스템비계 설치 및 해체 | B6: 10m 이하, 3개월(발판2열) | C6: M2 | D6: 2106
A7: 건축물 현장정리 | B7: 개수 | C7: M2 | D7: 527
A8: 준공청소 | C8: M2 | D8: 527
A27: [ 합 계 ]
A28: 조 적 공 사
A29: 속빈콘크리트블록 | B29: 속빈시멘트블록, 190*190*390mm, 부산 | C29: 매 | D29: 68
A30: 블록쌓기(390*190*190) | B30: 3.6m 이하, 한면마감(20m2/일당) | C30: M2 | D30: 5
A31: 모래 | B31: 모래, 부산, 도착도 | C31: M3 | D31: 0.06
A32: 시멘트 | B32: 40kg | C32: 포 | D32: 1
A51: [ 합 계 ]
A52: 목공사및수장공사
A53: 인테리어필름 | B53: 방염, 프리미엄 | C53: M2 | D53: 298 | M53: 시공도
A54: OA Floor | B54: 강판계, 황산칼슘, SP형 T20×500×500㎜ | C54: M2 | D54: 409
A55: 벽체틀 설치 | B55: 30*30, @450*500 | C55: M2 | D55: 219
A56: 벽체틀 설치(돌출W:80) | B56: 미송 30*30, @450*500 | C56: M2 | D56: 11
A57: 벽체틀 설치(돌출W:100) | B57: 미송 30*30, @450*500 | C57: M2 | D57: 10
A58: 벽체틀 설치(돌출W:130) | B58: 미송 30*30, @450*500 | C58: M2 | D58: 19
A59: 벽체틀 설치(돌출W:87.5) | B59: 미송 30*30, @340*500 | C59: M2 | D59: 9
A60: 벽체틀 설치(돌출W:187.5) | B60: 미송 30*30, @340*500 | C60: M2 | D60: 9
A61: 벽체틀 설치(돌출W:287.5) | B61: 미송 30*30, @340*500 | C61: M2 | D61: 22
A62: 벽체틀 설치 | B62: 미송 50*50, @450*500 | C62: M2 | D62: 183
A63: 벽체틀 설치(돌출W:200) | B63: 미송 50*50, @450*500 | C63: M2 | D63: 27
A64: 벽체틀 설치(돌출W:450) | B64: 미송 50*50, @450*500 | C64: M2 | D64: 49
A65: 비닐타일 깔기 | B65: 비닐타일, 5.0*600*600mm | C65: M2 | D65: 138
... A78: 라인타공흡음판 설치 | B78: 천장, 12mm | C78: M2 | D78: 37
A79: 마이너스몰딩 설치 | C79: M | D79: 158
A80: 암막블라인드 설치 | B80: 3500*3350 | C80: 개소 | D80: 4
A81: MDF 몰딩 설치 | B81: W:50*H:4300*30t, 인테리어필름 마감 | C81: 개소 | D81: 8
A82: 대회의실 주출입구 상부 등박스 | B82: L:2200*H70, 미송각재 30*30 | C82: 개소 | D82: 2
A83: 대회의실 사인물 설치 | B83: 자당(한글) | C83: 개소 | D83: 8
A99: [ 합 계 ]
A100: 금 속 공 사
A101: 경량천장철골틀 설치 | B101: M-BAR | C101: M2 | D101: 527
A102: 창호주위 탄소섬유시트보강 | B102: NR74(L), 2PLY | C102: M2 | D102: 67
A103: 블랙스텐걸레받이설치 | B103: H:30 | C103: M | D103: 112
...

Sheet 단가산출목록
B1: 단 가 산 출 목 록
B2: [ 부산광역시의회 대회의실 기본 및 실시 리모델링 ]
A3: 코 드 | B3: 품 명 | C3: 규 격 | D3: 단위 | E3: 재 료 비 | F3: 노 무 비 | G3: 경 비 | H3: 합 계 | I3: 번 호 | J3: 비 고 | K3: START | L3: 품셈개요

Sheet 단가산출서
A1: 단 가 산 출 서
A2: [ 부산광역시의회 대회의실 기본 및 실시 리모델링 ]
A3: 산 출 내 역 | B3: 재 료 비 | C3: 노 무 비 | D3: 경 비 | E3: 합 계 | F3: 비 고 | G3: START | H3: 코드 | I3: 품명 | J3: 규격 | K3: 단위 | L3: 수량 | M3: 변수 | N3: 값 | O3: 소계 | P3: 소계 | Q3: 소계 | R3: 소계 | S3: 소계 | T3: 총계
A4: ( )
A6: 총 계 | E6: 0

Sheet  공사설정 
A1: 이 Sheet는 수정하지 마십시요
A2: 공사구분 | B2: A | C2: 타이틀
A3: 확정내역 | B3: 원내역
A4: 자재단가적용 | B4: 5
A5: 경비단가적용 | B5: 5
A6: 품목코드형식 | B6: XXXX-XXXX-XXXXXXXXX
A7: 내역금액소수점처리 | B7: C | C7: T
A8: 일위대가내역소수점처리 | B8: C | C8: 2
A9: 단가명 | B9: 조달청가격 | C9: 거래가격 | D9: 유통물가 | E9: 조사가격1 | F9: 조사가격2 | G9: TTTTT
A10: 환율 | B10: 1472 | C10: 0 | D10: 0
A11: 시간당작업량 | B11: R | C11: 4
A12: 1회 사이클시간 | B12: R | C12: 4
A13: 시간당 작업사이클 | B13: R | C13: 3
A14: 일반변수 | B14: R | C14: 5
A15: 시간당 노임산출 계수 | B15: A | C15: 1/8*16/12*25/20 | D15: 1/8*16/12*25/20 | E15: 1/8*16/12*25/20 | F15: 1
A16: 재료비 할증 계수 | B16: 1.11 | C16: 1.12
A17: 노무비 할증 계수 | B17: 1 | C17: 1.5 | D17: 1.16 | E17: 1.6 | F17: 1.6 | G17: 1.6 | H17: 1.94 | I17: 1.94 | J17: 1.94 | K17: 1 | L17: 1 | M17: 1
A18: 경비 할증 계수 | B18: 1.25 | C18: 1.071
A19: 내역,일위대가 품명,규격,단위 따로적용
A20: 내역단가 소수점처리 | B20: C | C20: 1
A21: 코드 | B21: 공종구분명 | C21: 원가비목코드
A22: 1 | B22: 작 업 부 산 물 | C22: A3
A23: 2 | B23: 운 반 비 | C23: C1
A24: 3 | B24: 도급자관급자재비 | C24: DJ
A25: 4 | B25: 사 급 자 재 비 | C25: D3
A26: 5 | B26: 외 자 재
A27: 6 | B27: 관급자관급자재비 | C27: DK
A28: 7 | B28: 건설폐기물처리비 | C28: D5
A29: 8 | B29: 지정폐기물처리비 | C29: D6
A30: 9 | B30: 품 질 관 리 비 | C30: CD
A31: A | B31: 어린이활동공간 | C31: CC
A32: B | B32: 발 생 제 처 리 | C32: D4
A33: C | B33: 안 전 관 리 비 | C33: CE
A34: D
A35: E
A36: F | B36: ....
A37: G | B37: ....
A38: H | B38: ....
A39: I | B39: ....
A40: J | B40: ....
...

Sheet Sheet1
